BEGIN:VCALENDAR
VERSION:2.0
PRODID:-//eventon.com NONSGML v1.0//EN
BEGIN:VEVENT
UID:69e5f932dc3de
DTSTAMP:20260420T130018
DTSTART:20200221T140000Z
DTEND:20200221T160000Z
LOCATION:
SUMMARY:Visainrannan venesatama-alueen kehittäminen
DESCRIPTION: 
END:VEVENT
END:VCALENDAR